BEGIN:VCALENDAR
VERSION:2.0
PRODID:-//Stone In - ECPv6.15.11//NONSGML v1.0//EN
CALSCALE:GREGORIAN
METHOD:PUBLISH
X-WR-CALNAME:Stone In
X-ORIGINAL-URL:https://stonesbrasil.com
X-WR-CALDESC:Eventos para Stone In
REFRESH-INTERVAL;VALUE=DURATION:PT1H
X-Robots-Tag:noindex
X-PUBLISHED-TTL:PT1H
BEGIN:VTIMEZONE
TZID:America/Sao_Paulo
BEGIN:STANDARD
TZOFFSETFROM:-0300
TZOFFSETTO:-0300
TZNAME:-03
DTSTART:20250101T000000
END:STANDARD
END:VTIMEZONE
BEGIN:VEVENT
DTSTART;VALUE=DATE:20260309
DTEND;VALUE=DATE:20260314
DTSTAMP:20260423T145534
CREATED:20260130T174218Z
LAST-MODIFIED:20260130T174218Z
UID:1359-1773014400-1773446399@stonesbrasil.com
SUMMARY:Expo Revestir
DESCRIPTION:Com trajetória de mais de 20 anos e consolidada entre as maiores feiras do segmento no mundo\, a Expo Revestir é o principal ponto de encontro dos profissionais de revendas\, construtoras\, arquitetura e design de interiores. \nMaior feira de revestimentos e acabamentos da América Latina\, a próxima edição da Expo Revestir acontece de 9 a 13 de março de 2026\, no pavilhão São Paulo Expo\, como o primeiro grande evento de negócios do calendário nacional da construção. \nCom espaço de 65 mil metros quadrados\, o evento reunirá público profissional altamente qualificado em torno das principais tendências e inovações repletas de design\, tecnologia e sustentabilidade.
URL:https://stonesbrasil.com/eventos/expo-revestir-2/
CATEGORIES:Nacional
ATTACH;FMTTYPE=image/png:https://stonesbrasil.com/wp-content/uploads/2026/01/download-5.png
END:VEVENT
BEGIN:VEVENT
DTSTART;VALUE=DATE:20260316
DTEND;VALUE=DATE:20260320
DTSTAMP:20260423T145534
CREATED:20260130T172843Z
LAST-MODIFIED:20260130T172843Z
UID:1350-1773619200-1773964799@stonesbrasil.com
SUMMARY:Xiamen Stone Fair 2025
DESCRIPTION:
URL:https://stonesbrasil.com/eventos/xiamen-stone-fair-2025/
CATEGORIES:Internacional
ATTACH;FMTTYPE=image/jpeg:https://stonesbrasil.com/wp-content/uploads/2026/01/download-3.jpeg
END:VEVENT
BEGIN:VEVENT
DTSTART;VALUE=DATE:20260330
DTEND;VALUE=DATE:20260403
DTSTAMP:20260423T145534
CREATED:20260130T172518Z
LAST-MODIFIED:20260130T172518Z
UID:1347-1774828800-1775174399@stonesbrasil.com
SUMMARY:Coverings
DESCRIPTION:A Coverings atrai milhares de profissionais do setor de toda a cadeia de suprimentos\, bem como jornalistas\, repórteres e blogueiros que cobrem o setor sonoro de revestimentos cerâmicos e de pedra. \nDescubra o mundo dos azulejos\, pedras e máquinas como nunca antes. Junte-se a nós na Coverings 2026 em Las Vegas\, de 30 de março a 2 de abril de 2026!
URL:https://stonesbrasil.com/eventos/coverings-2/
CATEGORIES:Internacional
ATTACH;FMTTYPE=image/jpeg:https://stonesbrasil.com/wp-content/uploads/2026/01/download-1.jpeg
END:VEVENT
END:VCALENDAR