BEGIN:VCALENDAR
VERSION:2.0
PRODID:-//Stone In - ECPv6.15.11//NONSGML v1.0//EN
CALSCALE:GREGORIAN
METHOD:PUBLISH
X-WR-CALNAME:Stone In
X-ORIGINAL-URL:https://stonesbrasil.com
X-WR-CALDESC:Eventos para Stone In
REFRESH-INTERVAL;VALUE=DURATION:PT1H
X-Robots-Tag:noindex
X-PUBLISHED-TTL:PT1H
BEGIN:VTIMEZONE
TZID:America/Sao_Paulo
BEGIN:STANDARD
TZOFFSETFROM:-0300
TZOFFSETTO:-0300
TZNAME:-03
DTSTART:20250101T000000
END:STANDARD
END:VTIMEZONE
BEGIN:VEVENT
DTSTART;VALUE=DATE:20260217
DTEND;VALUE=DATE:20260220
DTSTAMP:20260423T163442
CREATED:20260130T173919Z
LAST-MODIFIED:20260130T173919Z
UID:1356-1771286400-1771545599@stonesbrasil.com
SUMMARY:KBIS
DESCRIPTION:Kitchen & Bath Industry Show (KBIS) é a maior e mais prestigiada feira de negócios da América do Norte dedicada ao design de cozinhas e banheiros. Este evento imersivo reúne 650 expositores apresentando os mais recentes produtos\, tendências e tecnologias em quase 500.000 pés quadrados de espaço de exposição . Se você busca inspiração\, oportunidades de networking ou soluções inovadoras\, a KBIS é o evento imperdível para todos os profissionais da indústria de design.
URL:https://stonesbrasil.com/eventos/kbis/
CATEGORIES:Internacional
ATTACH;FMTTYPE=image/png:https://stonesbrasil.com/wp-content/uploads/2026/01/download-4.png
END:VEVENT
BEGIN:VEVENT
DTSTART;VALUE=DATE:20260224
DTEND;VALUE=DATE:20260227
DTSTAMP:20260423T163442
CREATED:20260130T173601Z
LAST-MODIFIED:20260130T173601Z
UID:1353-1771891200-1772150399@stonesbrasil.com
SUMMARY:Marmomac Brazil
DESCRIPTION:A Marmomac Brazil é o epicentro dessa transformação\, reunindo os principais players do mercado para gerar negócios\, abrir novos mercados e fortalecer toda a cadeia produtiva. Em sua última edição (2025)\, o evento movimentou cerca de R$ 1 bilhão\, consolidando-se como o mais relevante ponto de encontro das Américas para quem produz\, transforma e comercializa rochas naturais.
URL:https://stonesbrasil.com/eventos/marmomac-brazil/
CATEGORIES:Nacional
ATTACH;FMTTYPE=image/jpeg:https://stonesbrasil.com/wp-content/uploads/2026/01/download-4.jpeg
END:VEVENT
END:VCALENDAR