BEGIN:VCALENDAR
VERSION:2.0
PRODID:-//Stone In - ECPv6.15.11//NONSGML v1.0//EN
CALSCALE:GREGORIAN
METHOD:PUBLISH
X-ORIGINAL-URL:https://stonesbrasil.com
X-WR-CALDESC:Eventos para Stone In
REFRESH-INTERVAL;VALUE=DURATION:PT1H
X-Robots-Tag:noindex
X-PUBLISHED-TTL:PT1H
BEGIN:VTIMEZONE
TZID:UTC
BEGIN:STANDARD
TZOFFSETFROM:+0000
TZOFFSETTO:+0000
TZNAME:UTC
DTSTART:20230101T000000
END:STANDARD
END:VTIMEZONE
BEGIN:VEVENT
DTSTART;VALUE=DATE:20240417
DTEND;VALUE=DATE:20240421
DTSTAMP:20260425T010914
CREATED:20240217T042615Z
LAST-MODIFIED:20240217T042615Z
UID:429-1713312000-1713657599@stonesbrasil.com
SUMMARY:Marble Fair - Turquia
DESCRIPTION:Sendo um dos encontros mais importantes do setor da pedra natural no mundo\, a MARBLE Fair – Feira Internacional de Pedras Naturais e Tecnologias abre as suas portas ao mundo inteiro pela 29ª vez. \nEmbora as reservas de mármore a Turquia representa 33% das reservas de mármore em todo o mundo e também atrai a atenção pela sua variedade de mármore\, são mais de 120 cores e 80 formas diferentes.
URL:https://stonesbrasil.com/eventos/marble-fair/
LOCATION:Izmir\, Turquia
ATTACH;FMTTYPE=image/jpeg:https://stonesbrasil.com/wp-content/uploads/2024/02/1-1920x800-2-2008.jpg
END:VEVENT
BEGIN:VEVENT
DTSTART;VALUE=DATE:20240422
DTEND;VALUE=DATE:20240426
DTSTAMP:20260425T010914
CREATED:20240217T013228Z
LAST-MODIFIED:20240217T021304Z
UID:400-1713744000-1714089599@stonesbrasil.com
SUMMARY:Covering's
DESCRIPTION:A Coverings é a exposição setorial norte-americana mais importante para os canais de distribuição e varejo de revestimentos cerâmicos\, com alcance também nos mercados do Canadá\, México\, Panamá\, Colômbia\, Equador\, Bolívia e Caribe.
URL:https://stonesbrasil.com/eventos/coverings/
LOCATION:Atlanta\, Georgia World Congress Center\, Atlanta\, Estados Unidos
CATEGORIES:Internacional
ATTACH;FMTTYPE=image/jpeg:https://stonesbrasil.com/wp-content/uploads/2024/02/Registration-to-Attend-Coverings-2024-Now-Open.jpg
END:VEVENT
END:VCALENDAR