BEGIN:VCALENDAR
VERSION:2.0
PRODID:-//Stone In - ECPv6.15.11//NONSGML v1.0//EN
CALSCALE:GREGORIAN
METHOD:PUBLISH
X-ORIGINAL-URL:https://stonesbrasil.com
X-WR-CALDESC:Eventos para Stone In
REFRESH-INTERVAL;VALUE=DURATION:PT1H
X-Robots-Tag:noindex
X-PUBLISHED-TTL:PT1H
BEGIN:VTIMEZONE
TZID:UTC
BEGIN:STANDARD
TZOFFSETFROM:+0000
TZOFFSETTO:+0000
TZNAME:UTC
DTSTART:20230101T000000
END:STANDARD
END:VTIMEZONE
BEGIN:VEVENT
DTSTART;VALUE=DATE:20240319
DTEND;VALUE=DATE:20240323
DTSTAMP:20260423T163025
CREATED:20240217T021913Z
LAST-MODIFIED:20240217T021913Z
UID:407-1710806400-1711151999@stonesbrasil.com
SUMMARY:Expo Revestir
DESCRIPTION:Expo Revestir 2024: negócios e conexões que impulsionam a cadeia da construção civil. \nCom trajetória de mais de 20 anos e consolidada entre as três maiores feiras do segmento no mundo\, a Expo Revestir é o principal ponto de encontro dos profissionais de revendas\, construtoras\, arquitetura e design de interiores.
URL:https://stonesbrasil.com/eventos/expo-revestir/
LOCATION:São Paulo\, Pavilhão São Paulo Expo\, São Paulo\, Brasil
CATEGORIES:Nacional
ATTACH;FMTTYPE=image/png:https://stonesbrasil.com/wp-content/uploads/2024/02/Expo_Revestir_2024.png
END:VEVENT
BEGIN:VEVENT
DTSTART;VALUE=DATE:20240316
DTEND;VALUE=DATE:20240320
DTSTAMP:20260423T163025
CREATED:20240217T012709Z
LAST-MODIFIED:20240217T012709Z
UID:396-1710547200-1710892799@stonesbrasil.com
SUMMARY:Xiamen Stone Fair
DESCRIPTION:A Xiamen International Stone Fair é uma feira anual para a indústria da pedra. A exposição acontece no mês de março todos os anos em Xiamen\, China. Com  aproximadamente 2.000 expositores de mais de 50 países e 150.000 visitantes de 155 países\, a Xiamen Stone Fair é uma das mais influentes do mundo.
URL:https://stonesbrasil.com/eventos/xiamen-stone-fair/
LOCATION:Xiamen\, China
CATEGORIES:Internacional
ATTACH;FMTTYPE=image/jpeg:https://stonesbrasil.com/wp-content/uploads/2024/02/outside-xiamen_080c92ca.jpg
END:VEVENT
BEGIN:VEVENT
DTSTART;VALUE=DATE:20240227
DTEND;VALUE=DATE:20240301
DTSTAMP:20260423T163025
CREATED:20240216T222128Z
LAST-MODIFIED:20240216T222128Z
UID:383-1708992000-1709251199@stonesbrasil.com
SUMMARY:The Kitchen & Bath Industry Show (KBIS)
DESCRIPTION:Todos os anos\, a KBIS recebe milhares de designers qualificados de cozinhas e banheiros\, designers de interiores\, revendedores\, arquitetos\, showrooms\, construtores personalizados e remodeladores. \nKBIS é co-localizado com o NAHB International Builders Show (IBS)\, que juntos compõem a Design & Construction Week® e atrai mais de 100.000 profissionais de design e construção entre os dois eventos. Não perca a oportunidade de se conectar com um grupo exclusivo e poderoso de profissionais de design e construção residencial.
URL:https://stonesbrasil.com/eventos/the-kitchen-bath-industry-show-kbis/
LOCATION:Las Vegas Convention Center\, NV\, Estados Unidos
CATEGORIES:Internacional
ATTACH;FMTTYPE=image/jpeg:https://stonesbrasil.com/wp-content/uploads/2024/02/NKBA-KBIS.jpg
END:VEVENT
END:VCALENDAR