BEGIN:VCALENDAR
VERSION:2.0
PRODID:-//Stone In - ECPv6.15.11//NONSGML v1.0//EN
CALSCALE:GREGORIAN
METHOD:PUBLISH
X-ORIGINAL-URL:https://stonesbrasil.com
X-WR-CALDESC:Eventos para Stone In
REFRESH-INTERVAL;VALUE=DURATION:PT1H
X-Robots-Tag:noindex
X-PUBLISHED-TTL:PT1H
BEGIN:VTIMEZONE
TZID:America/Sao_Paulo
BEGIN:STANDARD
TZOFFSETFROM:-0300
TZOFFSETTO:-0300
TZNAME:-03
DTSTART:20250101T000000
END:STANDARD
END:VTIMEZONE
BEGIN:VEVENT
DTSTART;TZID=America/Sao_Paulo:20260407T100000
DTEND;TZID=America/Sao_Paulo:20260410T200000
DTSTAMP:20260423T163853
CREATED:20260130T171154Z
LAST-MODIFIED:20260130T171154Z
UID:1335-1775556000-1775851200@stonesbrasil.com
SUMMARY:Feicon 2026
DESCRIPTION:São Paulo Expo das 10h as 20h — A maior feira de construção da América Latina. Credenciamento gratuito até 22/03. São mais de 1.000 marcas expositoras e 200 horas de conteúdo. Inscreva-se hoje mesmo. 07 a 10 | ABRIL | 2026.
URL:https://stonesbrasil.com/eventos/feicon-2026/
CATEGORIES:Nacional
ATTACH;FMTTYPE=image/png:https://stonesbrasil.com/wp-content/uploads/2026/01/logo-slider.png
END:VEVENT
BEGIN:VEVENT
DTSTART;VALUE=DATE:20260408
DTEND;VALUE=DATE:20260413
DTSTAMP:20260423T163853
CREATED:20260130T171556Z
LAST-MODIFIED:20260130T171556Z
UID:1339-1775606400-1776038399@stonesbrasil.com
SUMMARY:SP-Arte
DESCRIPTION:A SP–Arte é a principal feira de arte da América Latina\, realizada anualmente por cinco dias no Pavilhão da Bienal\, em São Paulo. Assim como feiras renomadas como Art Basel e Frieze\, a SP–Arte serve como um ponto de encontro para a comunidade artística\, promovendo negócios e fortalecendo a circulação das artes visuais. Ela também fomenta intercâmbios artísticos entre o Brasil e o mercado internacional\, inserindo o país no circuito global. Além disso\, a SP–Arte oferece programas educativos\, como conversas com artistas e audioguias\, e movimenta a cidade com atividades como aberturas de exposições e visitas a ateliês.
URL:https://stonesbrasil.com/eventos/sp-arte/
CATEGORIES:Nacional
ATTACH;FMTTYPE=image/png:https://stonesbrasil.com/wp-content/uploads/2026/01/download-2.png
END:VEVENT
BEGIN:VEVENT
DTSTART;VALUE=DATE:20260421
DTEND;VALUE=DATE:20260427
DTSTAMP:20260423T163853
CREATED:20260130T172205Z
LAST-MODIFIED:20260130T172205Z
UID:1343-1776729600-1777247999@stonesbrasil.com
SUMMARY:Salone del Mobile.Milano 2026
DESCRIPTION:O Salone Internazionale del Mobile foi fundado em 1961 como um veículo para promover as exportações de móveis e artigos de decoração italianos e logo se tornou o evento mais aguardado do mundo do mobiliário.
URL:https://stonesbrasil.com/eventos/salone-del-mobile-milano-2026/
CATEGORIES:Internacional
ATTACH;FMTTYPE=image/png:https://stonesbrasil.com/wp-content/uploads/2026/01/download-3.png
END:VEVENT
END:VCALENDAR