BEGIN:VCALENDAR
VERSION:2.0
PRODID:-//Stone In - ECPv6.15.11//NONSGML v1.0//EN
CALSCALE:GREGORIAN
METHOD:PUBLISH
X-ORIGINAL-URL:https://stonesbrasil.com
X-WR-CALDESC:Eventos para Stone In
REFRESH-INTERVAL;VALUE=DURATION:PT1H
X-Robots-Tag:noindex
X-PUBLISHED-TTL:PT1H
BEGIN:VTIMEZONE
TZID:UTC
BEGIN:STANDARD
TZOFFSETFROM:+0000
TZOFFSETTO:+0000
TZNAME:UTC
DTSTART:20230101T000000
END:STANDARD
END:VTIMEZONE
BEGIN:VEVENT
DTSTART;VALUE=DATE:20241126
DTEND;VALUE=DATE:20241130
DTSTAMP:20260424T184733
CREATED:20240217T033335Z
LAST-MODIFIED:20240217T033335Z
UID:416-1732579200-1732924799@stonesbrasil.com
SUMMARY:BIG 5 Global
DESCRIPTION:A Big 5 Global é o seu parceiro essencial para o crescimento do negócio \nConecte-se com mais de 81.000 participantes que estão ansiosos para ver o que há no mundo da construção. Mostre o que está em andamento e estabeleça conexões valiosas com os principais participantes que podem impulsionar seu negócio.
URL:https://stonesbrasil.com/eventos/big-5-global/
LOCATION:Dubai\, Dubai World Trade Centre\, Emirados Árabes Unidos
CATEGORIES:Internacional
ATTACH;FMTTYPE=image/png:https://stonesbrasil.com/wp-content/uploads/2024/02/Design-sem-nome-2024-02-16T213249.191.png
END:VEVENT
END:VCALENDAR