BEGIN:VCALENDAR
VERSION:2.0
PRODID:-//Stone In - ECPv6.15.11//NONSGML v1.0//EN
CALSCALE:GREGORIAN
METHOD:PUBLISH
X-WR-CALNAME:Stone In
X-ORIGINAL-URL:https://stonesbrasil.com
X-WR-CALDESC:Eventos para Stone In
REFRESH-INTERVAL;VALUE=DURATION:PT1H
X-Robots-Tag:noindex
X-PUBLISHED-TTL:PT1H
BEGIN:VTIMEZONE
TZID:UTC
BEGIN:STANDARD
TZOFFSETFROM:+0000
TZOFFSETTO:+0000
TZNAME:UTC
DTSTART:20230101T000000
END:STANDARD
END:VTIMEZONE
BEGIN:VEVENT
DTSTART;VALUE=DATE:20240319
DTEND;VALUE=DATE:20240323
DTSTAMP:20260425T073139
CREATED:20240217T021913Z
LAST-MODIFIED:20240217T021913Z
UID:407-1710806400-1711151999@stonesbrasil.com
SUMMARY:Expo Revestir
DESCRIPTION:Expo Revestir 2024: negócios e conexões que impulsionam a cadeia da construção civil. \nCom trajetória de mais de 20 anos e consolidada entre as três maiores feiras do segmento no mundo\, a Expo Revestir é o principal ponto de encontro dos profissionais de revendas\, construtoras\, arquitetura e design de interiores.
URL:https://stonesbrasil.com/eventos/expo-revestir/
LOCATION:São Paulo\, Pavilhão São Paulo Expo\, São Paulo\, Brasil
CATEGORIES:Nacional
ATTACH;FMTTYPE=image/png:https://stonesbrasil.com/wp-content/uploads/2024/02/Expo_Revestir_2024.png
END:VEVENT
END:VCALENDAR