BEGIN:VCALENDAR
VERSION:2.0
PRODID:-//Stone In - ECPv6.15.11//NONSGML v1.0//EN
CALSCALE:GREGORIAN
METHOD:PUBLISH
X-ORIGINAL-URL:https://stonesbrasil.com
X-WR-CALDESC:Eventos para Stone In
REFRESH-INTERVAL;VALUE=DURATION:PT1H
X-Robots-Tag:noindex
X-PUBLISHED-TTL:PT1H
BEGIN:VTIMEZONE
TZID:UTC
BEGIN:STANDARD
TZOFFSETFROM:+0000
TZOFFSETTO:+0000
TZNAME:UTC
DTSTART:20230101T000000
END:STANDARD
END:VTIMEZONE
BEGIN:VEVENT
DTSTART;VALUE=DATE:20240521
DTEND;VALUE=DATE:20240729
DTSTAMP:20260424T223433
CREATED:20240520T035645Z
LAST-MODIFIED:20240520T035645Z
UID:795-1716249600-1722211199@stonesbrasil.com
SUMMARY:CASACOR São Paulo
DESCRIPTION:A CASACOR São Paulo anuncia as datas para sua 37ª edição: de 21 de maio a 28 de julho de 2024. O palco será\, pela terceira vez\, o Conjunto Nacional\, na Avenida Paulista\, dando continuidade ao sucesso da ocupação do edifício icônico. O novo tema\, “De Presente\, o agora“\, será trabalhado pelo elenco de profissionais selecionados pela curadoria do evento. \n21 de maio a 28 de julho de 2024\n*datas previstas – podem sofrer alterações \nConjunto Nacional\nAv. Paulista\, 2073 – Cerqueira César \nContato\ncomercialcasacor@abril.com.br\neventos@casacor.com.br\nbilheteriacasacor@abril.com.br \nhttps://casacor.abril.com.br/mostras/sao-paulo/
URL:https://stonesbrasil.com/eventos/casacor-sao-paulo/
CATEGORIES:Nacional
ATTACH;FMTTYPE=image/webp:https://stonesbrasil.com/wp-content/uploads/2024/05/AF4I4577-1.webp
END:VEVENT
BEGIN:VEVENT
DTSTART;VALUE=DATE:20240604
DTEND;VALUE=DATE:20240729
DTSTAMP:20260424T223433
CREATED:20240520T040022Z
LAST-MODIFIED:20240520T040022Z
UID:799-1717459200-1722211199@stonesbrasil.com
SUMMARY:CASACOR Paraná
DESCRIPTION:Um casarão da década de 80\, localizado no bairro Batel\, será a sede da 30ª edição da CASACOR Paraná em 2024. A pedido dos profissionais do setor\, o retorno a uma residência familiar é também uma escolha afetiva. “De volta a uma casa\, no coração do Batel” é o mote que norteia os preparativos da edição que irá celebrar o sucesso de três décadas de atuação da mostra. \n04 de junho a 28 de julho de 2024\n* datas previstas sujeitas a alteração \nR. Bpo. Dom José\, 2222 – Batel\nCuritiba – PR \nContato \n(41) 98868-1517\ninfo@casacorparana.com.br \nLeia mais em: https://casacor.abril.com.br/mostras/parana/
URL:https://stonesbrasil.com/eventos/casacor-parana/
CATEGORIES:Nacional
ATTACH;FMTTYPE=image/webp:https://stonesbrasil.com/wp-content/uploads/2024/05/Nova-sede-CASACOR-Parana-2024-6.webp
END:VEVENT
BEGIN:VEVENT
DTSTART;VALUE=DATE:20240611
DTEND;VALUE=DATE:20240721
DTSTAMP:20260424T223433
CREATED:20240520T040321Z
LAST-MODIFIED:20240520T040321Z
UID:802-1718064000-1721519999@stonesbrasil.com
SUMMARY:CASACOR Bolívia
DESCRIPTION:Em 2024\, mais de 50 profissionais têm o desafio de transformar quase 3.000 metros quadrados de uma propriedade localizada em uma área de grande valor agregado que\, no início do século passado\, era ocupada por fazendas. Nesta sua 11ª edição\, a franquia optou por retornar a uma casa e aos arredores que contempla desde seu início\, em 2013. \n11 de junho a 20 de julho de 2024\n* datas previstas sujeitas a alterações \nCASACOR Bolivia\nAv. Beni 2130\, Santa Cruz de la Sierra\, Bolívia \nContato \n(+591) 78518188 \npsomoza@casacorbolivia.com \nLeia mais em: https://casacor.abril.com.br/mostras/bolivia/
URL:https://stonesbrasil.com/eventos/casacor-bolivia/
CATEGORIES:Nacional
ATTACH;FMTTYPE=image/webp:https://stonesbrasil.com/wp-content/uploads/2024/05/Eduardo-Baldelomar-Jorori-Lounge-Gourmet.webp
END:VEVENT
END:VCALENDAR